BEGIN:VCALENDAR
VERSION:2.0
PRODID:-//ical.marudot.com//iCal Event Maker
CALSCALE:GREGORIAN
BEGIN:VTIMEZONE
TZID:Australia/Brisbane
TZURL:http://tzurl.org/zoneinfo-outlook/Australia/Brisbane
X-LIC-LOCATION:Australia/Brisbane
BEGIN:STANDARD
TZOFFSETFROM:+1000
TZOFFSETTO:+1000
TZNAME:AEST
DTSTART:19700101T000000
END:STANDARD
END:VTIMEZONE
BEGIN:VEVENT
DTSTAMP:20200214T045122Z
UID:20200214T045122Z-583983325@marudot.com
DTSTART;VALUE=DATE:20200518
DTEND;VALUE=DATE:20200521
SUMMARY:Australian Superyacht\, Marine Export & Commercial Marine Industry (ASMEX) Conference
URL:https%3A%2F%2Fwww.asmex-conference.com.au
DESCRIPTION:Australian Superyacht\, Marine Export & Commercial Marine Industry (ASMEX) Conference\nSanctuary Cove\, Queensland\nMay 18-20\,2020\n\nhttps://www.asmex-conference.com.au\n
LOCATION:InterContinental Sanctuary Cove Resort\, Manor Circle\, Sanctuary Cove\, Queensland\, 4212 Australia 
END:VEVENT
END:VCALENDAR